
BEGIN:VCALENDAR
VERSION:2.0
PRODID:-//eventon.com NONSGML v1.0//EN
CALSCALE:GREGORIAN
METHOD:PUBLISH
BEGIN:VEVENT
UID:69e654782a859
DTSTAMP:20260420T162944Z
DTSTART:20251108T220000Z
DTEND:20251109T040000Z
LOCATION:Faces Night Club 458-462 Cranbrook Road\,  Gants Hill\,  IG2 6LE
SUMMARY:Re-Union Jam
DESCRIPTION:Dominica 47th Independence &amp; DNDDF 34th Anniversary\nhttps:
 //socanews.com/events/re-union-jam/
URL:https://socanews.com/events/re-union-jam/
END:VEVENT
END:VCALENDAR