
BEGIN:VCALENDAR
VERSION:2.0
PRODID:-//eventon.com NONSGML v1.0//EN
CALSCALE:GREGORIAN
METHOD:PUBLISH
BEGIN:VEVENT
UID:69e7ef20e8b47
DTSTAMP:20260421T214152Z
DTSTART:20251107T180000Z
DTEND:20251107T203000Z
LOCATION:Clarence Hall Bradfield Court Hawley Road\,  London\,  NW1 8RN
SUMMARY:Frederick Douglass – My Path to Freedom’ Film Screening
DESCRIPTION:Frederick Douglass was a formerly enslaved man who became a lea
 ding abolitionist\,  writer\,  and orator in 19th-century America. His powe
 rful speeches and writings exposed the brutality of slavery\,  advocating f
 reedom\,  equality\,  and justice. Douglass’s legacy remains vital in the
  fight for civil rights and human dignity worldwide. This production is[..]
 \nhttps://socanews.com/events/frederick-douglass-my-path-to-freedom-film-sc
 reening/
URL:https://socanews.com/events/frederick-douglass-my-path-to-freedom-film-screening/
END:VEVENT
END:VCALENDAR