
BEGIN:VCALENDAR
VERSION:2.0
PRODID:-//eventon.com NONSGML v1.0//EN
CALSCALE:GREGORIAN
METHOD:PUBLISH
BEGIN:VEVENT
UID:69e7ef20e4c33
DTSTAMP:20260421T214152Z
DTSTART:20251103T190000Z
DTEND:20251103T210000Z
LOCATION:Cafe KOKO 74 Crowndale Road\,  #Ground Floor\,  London\,  NW1 1TP
SUMMARY:Nigeria’s Story: Beat of the West 
DESCRIPTION:\nhttps://socanews.com/events/nigerias-story-beat-of-the-west/
URL:https://socanews.com/events/nigerias-story-beat-of-the-west/
END:VEVENT
END:VCALENDAR