
BEGIN:VCALENDAR
VERSION:2.0
PRODID:-//eventon.com NONSGML v1.0//EN
CALSCALE:GREGORIAN
METHOD:PUBLISH
BEGIN:VEVENT
UID:69e8ffb7a3a76
DTSTAMP:20260422T170455Z
DTSTART:20251206T150000Z
DTEND:20251206T210000Z
LOCATION:Sugar Studios Tunnel Avenue\,  London\,  SE10 0PA
SUMMARY:UCOM Band Launch
DESCRIPTION:Step into our heavenly launch event\,  come and experience what
  its like to experience &#8220;Heaven On Earth&#8221; as we present 8 stunn
 ing sections for our new look band. This is not just a launch its an experi
 ence and party\,  Daytime party vibes are the best!\nhttps://socanews.com/e
 vents/ucom-band-launch/
URL:https://socanews.com/events/ucom-band-launch/
END:VEVENT
END:VCALENDAR