
BEGIN:VCALENDAR
VERSION:2.0
PRODID:-//eventon.com NONSGML v1.0//EN
CALSCALE:GREGORIAN
METHOD:PUBLISH
BEGIN:VEVENT
UID:69e8f9730c244
DTSTAMP:20260422T163811Z
DTSTART:20251220T180000Z
DTEND:20251221T000000Z
LOCATION:Limin Southbank Gabriel's Wharf\,  56 Upper Ground\,  London\,  SE1 9PP
SUMMARY:Gemz Mas International Costume Launch
DESCRIPTION:Experience the fiery energy of the Caribbean at Notting Hill Ca
 rnival 2026\,  celebrating culture\,  music and unity with Gemz Mas Interna
 tional! On December 20th 2025\,  we unveil our bedazzling costumes. Come jo
 in us at the #1 Caribbean Restaurant in Central London &#8211; Limin&#8217;
  SouthBank and sip on some fantastic rum[..]\nhttps://socanews.com/events/g
 emz-mas-international-costume-launch/
URL:https://socanews.com/events/gemz-mas-international-costume-launch/
END:VEVENT
END:VCALENDAR