
BEGIN:VCALENDAR
VERSION:2.0
PRODID:-//eventon.com NONSGML v1.0//EN
CALSCALE:GREGORIAN
METHOD:PUBLISH
BEGIN:VEVENT
UID:69e6352d538f7
DTSTAMP:20260420T141613Z
DTSTART:20260207T180000Z
DTEND:20260208T020000Z
LOCATION:Fatima College Mucurapo Road\,  Port of Spain
SUMMARY:Fatima All Inclusive - Love Notes
DESCRIPTION:Get ready for a night that hits All the Notes! The Ultimate Car
 nival All Inclusive where Vibes\,  Rhythm and Romance collide for an unforg
 ettable night !!!  Show- Stopping performances Signature Cocktails &amp;
  Satiating dishes Picture Perfect Moments  Love Notes : Your Season of 
 Love Starts Here!!!\nhttps://socanews.com/events/fatima-all-inclusive-love-
 notes/
URL:https://socanews.com/events/fatima-all-inclusive-love-notes/
END:VEVENT
END:VCALENDAR