
BEGIN:VCALENDAR
VERSION:2.0
PRODID:-//eventon.com NONSGML v1.0//EN
CALSCALE:GREGORIAN
METHOD:PUBLISH
BEGIN:VEVENT
UID:69ea483533a3e
DTSTAMP:20260423T162629Z
DTSTART:20260207T140000Z
DTEND:20260208T120000Z
LOCATION:Skinner Park Todd Street\,  San Fernando\,  Trinidad & Tobago
SUMMARY:Calypso Fiesta
DESCRIPTION:Calypso Fiesta 2026\,  promises to be a showdown and party of a
  lifetime. Executed under the theme ‘Calypso Unleashed\,  Boundless Harmo
 nies\, ’ Cultural Connoisseurs\,  calypsoholic and party lovers can expec
 t harmonies to rain with rhythm and rhyme across the globe. This is a showd
 own you cannot afford to miss\,  come let’s[..]\nhttps://socanews.com/eve
 nts/calypso-fiesta-3/
URL:https://socanews.com/events/calypso-fiesta-3/
END:VEVENT
END:VCALENDAR