
BEGIN:VCALENDAR
VERSION:2.0
PRODID:-//eventon.com NONSGML v1.0//EN
CALSCALE:GREGORIAN
METHOD:PUBLISH
BEGIN:VEVENT
UID:69e904d79bfb5
DTSTAMP:20260422T172647Z
DTSTART:20260125T030000Z
DTEND:20260125T100000Z
LOCATION:O2 Park Westside Chaguaramas\,  Trinidad & Tobago
SUMMARY:Soaka Till Sunrise
DESCRIPTION:Our signature event is one of the most sought after events for 
 Carnival. Soaka Till Sunrise continues to exceed expectations with each pas
 sing year. We’ve taken the best of Carnival – paint\,  powder\,  soca a
 nd energy that is unmatched by any other event. Then we improved with each 
 passing year\, [..]\nhttps://socanews.com/events/soaka-till-sunrise-3/
URL:https://socanews.com/events/soaka-till-sunrise-3/
END:VEVENT
END:VCALENDAR