
BEGIN:VCALENDAR
VERSION:2.0
PRODID:-//eventon.com NONSGML v1.0//EN
CALSCALE:GREGORIAN
METHOD:PUBLISH
BEGIN:VEVENT
UID:69e6352d3fc6d
DTSTAMP:20260420T141613Z
DTSTART:20260215
DTEND:20260216
LOCATION:TBC
SUMMARY:Colihaut Dimanche Gras
DESCRIPTION:\nhttps://socanews.com/events/colihaut-dimanche-gras/
URL:https://socanews.com/events/colihaut-dimanche-gras/
END:VEVENT
END:VCALENDAR