
BEGIN:VCALENDAR
VERSION:2.0
PRODID:-//eventon.com NONSGML v1.0//EN
CALSCALE:GREGORIAN
METHOD:PUBLISH
BEGIN:VEVENT
UID:69e59f903bc2b
DTSTAMP:20260420T033752Z
DTSTART:20260426T100000Z
DTEND:20260426T170000Z
LOCATION:Valley Road Roseau\,  Saint George Parish
SUMMARY:Aura Premium Brunch Experience
DESCRIPTION:Prepare to immerse yourself in pure luxury\,  style\,  and indu
 lgence as AURA returns for another unforgettable edition of Dominica’s mo
 st prestigious brunch event! Step into a world where elegance meets energy 
 — where every bite\,  sip\,  and beat is crafted to perfection. From the 
 moment you arrive\,  you’ll be enveloped[..]\nhttps://socanews.com/events
 /aura-premium-brunch-experience/
URL:https://socanews.com/events/aura-premium-brunch-experience/
END:VEVENT
END:VCALENDAR