
BEGIN:VCALENDAR
VERSION:2.0
PRODID:-//eventon.com NONSGML v1.0//EN
CALSCALE:GREGORIAN
METHOD:PUBLISH
BEGIN:VEVENT
UID:69e90a128e4a0
DTSTAMP:20260422T174906Z
DTSTART:20260509T210000Z
DTEND:20260510T020000Z
LOCATION:N7 London Unit 2\,  303 Holloway Road\,  London N7 8HS
SUMMARY:Total Bacchanal - Soca Party
DESCRIPTION:One Caribbean. Pure Soca energy. On Saturday\,  May 9th\,  the
  Caribbean comes together at Ends of London for a high-energy Soca celeb
 ration bringing vibes from Trinidad &amp; Tobago\,  Grenada\,  Barbados\,
   Saint Lucia\,  Antigua\,  Saint Vincent\,  Dominica\,  and beyond. From 
 Trini road-march anthems to Grenada Jab Jab madness\,  Bajan sweet Soca\
 ,  Lucian pressure\,  and island-to-island carnival heat\,  expect nonsto
 p rhythm\,  waistline movement\,  flag-waving[..]\nhttps://socanews.com/eve
 nts/total-bacchanal-soca-party/
URL:https://socanews.com/events/total-bacchanal-soca-party/
END:VEVENT
END:VCALENDAR