
BEGIN:VCALENDAR
VERSION:2.0
PRODID:-//eventon.com NONSGML v1.0//EN
CALSCALE:GREGORIAN
METHOD:PUBLISH
BEGIN:VEVENT
UID:69e8efb6e7b56
DTSTAMP:20260422T155638Z
DTSTART:20260823T080000Z
DTEND:20260823T140000Z
LOCATION:Tereza Joanne King George V Dock\,  Woolwich Manor Way\,  London\,  E16 2QY
SUMMARY:Mawnin Breakfast Party
DESCRIPTION:Get ready for a soca morning at The Tereza Joanne! Join us 
 on for a fun and vibe filled breakfast party. It&#8217;s the perfect way t
 o kick off your Notting Hill carnival Weel with great vibes\,  good food\, 
  and a your soca tribe. Don’t miss out on this premium breakfast experie
 nce—come hungry and ready to have[..]\nhttps://socanews.com/events/mawnin
 -breakfast-party-5/
URL:https://socanews.com/events/mawnin-breakfast-party-5/
END:VEVENT
END:VCALENDAR