
BEGIN:VCALENDAR
VERSION:2.0
PRODID:-//eventon.com NONSGML v1.0//EN
CALSCALE:GREGORIAN
METHOD:PUBLISH
BEGIN:VEVENT
UID:69e8f64d95d76
DTSTAMP:20260422T162445Z
DTSTART:20260516T170000Z
DTEND:20260517T020000Z
LOCATION:Chak 89 105 Bond Road\,  Mitcham CR4 3HG
SUMMARY:Guyana 60th Anniversary of Independence - Diamond Jubilee
DESCRIPTION:Guyana’s Diamond Jubilee (60th) Anniversary of Independence C
 elebrating 30 Years of Building a Stronger Guyanese Community in the UK.\nh
 ttps://socanews.com/events/guyana-60-anniversary-of-independence-diamond-ju
 bilee/
URL:https://socanews.com/events/guyana-60-anniversary-of-independence-diamond-jubilee/
END:VEVENT
END:VCALENDAR