
BEGIN:VCALENDAR
VERSION:2.0
PRODID:-//eventon.com NONSGML v1.0//EN
CALSCALE:GREGORIAN
METHOD:PUBLISH
BEGIN:VEVENT
UID:69e8f2eb70521
DTSTAMP:20260422T161019Z
DTSTART:20260517T120000Z
DTEND:20260517T200000Z
LOCATION:St Marks Church of England Academy Acacia Road\,  Mitcham\,  CR4 1SF
SUMMARY:Guyana Folk Festival
DESCRIPTION:A family day of the best in Guyanese culture\,  food\,  music &
 amp; entertainment; CELEBRATING GUYANA’s 60th ANNIVERSARY OF INDEPENDENCE
  The Guyana Folk Festival is a family day of the best in Guyanese culture\,
   food\,  music &amp; entertainment The first Guyana UK Folk Festival was h
 eld in 2008. This cultural extravaganza[..]\nhttps://socanews.com/events/gu
 yana-folk-festival-5/
URL:https://socanews.com/events/guyana-folk-festival-5/
END:VEVENT
END:VCALENDAR