
BEGIN:VCALENDAR
VERSION:2.0
PRODID:-//eventon.com NONSGML v1.0//EN
CALSCALE:GREGORIAN
METHOD:PUBLISH
BEGIN:VEVENT
UID:69e89ba726eb3
DTSTAMP:20260422T095759Z
DTSTART:20260517T120000Z
DTEND:20260517T180000Z
LOCATION:Swingers West End 9 Holles Street\,  London\,  W1G 0BD
SUMMARY:Rum and Putt
DESCRIPTION:Soca meets Crazy Golf\,  Carnival Games\,  Rum\,  and Food No k
 eys in the bowl here… just crazy golf\,  carnival games\,  rum\,  soca\,
   and food. Behave accordingly. We start strong with a rum cocktail recept
 ion from Duppy Share\,  then it’s unlimited crazy golf\,  competitive car
 nival games\,  dancing\,  and unapologetic eating courtesy of Pizza Pilgri
 ms\, [..]\nhttps://socanews.com/events/rum-and-putt/
URL:https://socanews.com/events/rum-and-putt/
END:VEVENT
END:VCALENDAR