
BEGIN:VCALENDAR
VERSION:2.0
PRODID:-//eventon.com NONSGML v1.0//EN
CALSCALE:GREGORIAN
METHOD:PUBLISH
BEGIN:VEVENT
UID:69e8f279a5fe7
DTSTAMP:20260422T160825Z
DTSTART:20260613T210000Z
DTEND:20260614T030000Z
LOCATION:The Camden 65 Crowndale Road\,  London\,  NW1 1TN
SUMMARY:Riddims in London
DESCRIPTION:Get ready for non-stop vibes as we shut down London with pure
  energy\,  top-tier DJs\,  and a wicked mix of Soca\,  Dancehall &amp; more
 ! This is the ultimate Carnival Warm Up Session 2026!–\nhttps://socanew
 s.com/events/riddims-in-london/
URL:https://socanews.com/events/riddims-in-london/
END:VEVENT
END:VCALENDAR