
BEGIN:VCALENDAR
VERSION:2.0
PRODID:-//eventon.com NONSGML v1.0//EN
CALSCALE:GREGORIAN
METHOD:PUBLISH
BEGIN:VEVENT
UID:69e8efb776cab
DTSTAMP:20260422T155639Z
DTSTART:20260515T210000Z
DTEND:20260515T030000Z
LOCATION:Trapeze Bar 89 Great Eastern Street\,  London\,  EC2 3HX\,  United Kingdom
SUMMARY:Carnival in Shoreditch
DESCRIPTION:What’s The Motive UK presents Carnival In Shoreditch &#8211; 
 London’s Biggest Carnival Party Experience something new and exciting STR
 AIGHT from the Caribbean Island. A total celebration of music\,  food &amp;
  culture. Get ready and join 100s of people for Shoreditch Carnival\,  the 
 CRAZIEST Party of 2025 with all your favourite[..]\nhttps://socanews.com/ev
 ents/carnival-in-shoreditch-4/
URL:https://socanews.com/events/carnival-in-shoreditch-4/
END:VEVENT
END:VCALENDAR