
BEGIN:VCALENDAR
VERSION:2.0
PRODID:-//eventon.com NONSGML v1.0//EN
CALSCALE:GREGORIAN
METHOD:PUBLISH
BEGIN:VEVENT
UID:69e8f29d1fd8c
DTSTAMP:20260422T160901Z
DTSTART:20260525T160000Z
DTEND:20260525T220000Z
LOCATION:Dingwalls Middle Yard Camden Lock\,  London\,  NW1 8AB\,  United Kingdom
SUMMARY:The Original Bank Holiday Fete
DESCRIPTION:Get ready for an unforgettable evening filled with non-stop Soc
 a music\,  fabulous food\,  and pure Caribbean energy. Whether you’re com
 ing to lime\,  dance\,  or just soak up the atmosphere\,  this is the place
  to be this Bank Holiday!\nhttps://socanews.com/events/the-original-bank-ho
 liday-fete/
URL:https://socanews.com/events/the-original-bank-holiday-fete/
END:VEVENT
END:VCALENDAR