
BEGIN:VCALENDAR
VERSION:2.0
PRODID:-//eventon.com NONSGML v1.0//EN
CALSCALE:GREGORIAN
METHOD:PUBLISH
BEGIN:VEVENT
UID:69e8f0a86e383
DTSTAMP:20260422T160040Z
DTSTART:20260501T220000Z
DTEND:20260502T160000Z
LOCATION:E1 Unit 2\,  110 Pennington Street\,  London\,  E1W 2BB
SUMMARY:Soca Invasion
DESCRIPTION:Soca\,  Calypso Non-Stop Carnival Vibez\nhttps://socanews.com/e
 vents/soca-invasion/
URL:https://socanews.com/events/soca-invasion/
END:VEVENT
END:VCALENDAR