
BEGIN:VCALENDAR
VERSION:2.0
PRODID:-//eventon.com NONSGML v1.0//EN
CALSCALE:GREGORIAN
METHOD:PUBLISH
BEGIN:VEVENT
UID:69e8f24499cbb
DTSTAMP:20260422T160732Z
DTSTART:20260502T210000Z
DTEND:20260503T020000Z
LOCATION:PAM PAM 3 Queen's Avenue\,  Bristol\,  BS8 1QU
SUMMARY:Tropical Wave: Bristol Dancehall & Soca Experience
DESCRIPTION:\nhttps://socanews.com/events/tropical-wave-bristol-dancehall-s
 oca-experience/
URL:https://socanews.com/events/tropical-wave-bristol-dancehall-soca-experience/
END:VEVENT
END:VCALENDAR