
BEGIN:VCALENDAR
VERSION:2.0
PRODID:-//eventon.com NONSGML v1.0//EN
CALSCALE:GREGORIAN
METHOD:PUBLISH
BEGIN:VEVENT
UID:69e8f29d0d89a
DTSTAMP:20260422T160901Z
DTSTART:20260509T210000Z
DTEND:20260509T020000Z
LOCATION:Alaska Waterloo 129 Alaska Street\,  London\,  SE1 8XE\,  United Kingdom
SUMMARY:Friends & Family Of Soca
DESCRIPTION:Get ready to vibe and party with your nearest and dearest at Fr
 iends &amp; Family Of Soca — where Elegance meet Soca! Step into an eveni
 ng where rhythm meets refinement. Friends &amp; Family of Soca is an inti
 mate celebration of music\,  movement\,  and connection — bringing togeth
 er great people\,  infectious energy\,  and[..]\nhttps://socanews.com/event
 s/friends-family-of-soca/
URL:https://socanews.com/events/friends-family-of-soca/
END:VEVENT
END:VCALENDAR