
BEGIN:VCALENDAR
VERSION:2.0
PRODID:-//eventon.com NONSGML v1.0//EN
CALSCALE:GREGORIAN
METHOD:PUBLISH
BEGIN:VEVENT
UID:69e8f0f766de0
DTSTAMP:20260422T160159Z
DTSTART:20260524T150000Z
DTEND:20260524T210000Z
LOCATION:Eutopia Warehouse 42 River Road\,  Barking\,  IG11 0DW
SUMMARY:Island Takeover
DESCRIPTION:Experience a serious dose of Carnival Vibes! We&#8217;re taking
  over East London for the BIGGEST carnival Inspired party. Get ready to whi
 ne up yuh waist and celebrate with us. Join 1000s of ravers for the CRAZIES
 T celebration of caribbean culture\,  music with all your favourite DJs pla
 ying the best in[..]\nhttps://socanews.com/events/island-takeover/
URL:https://socanews.com/events/island-takeover/
END:VEVENT
END:VCALENDAR