
BEGIN:VCALENDAR
VERSION:2.0
PRODID:-//eventon.com NONSGML v1.0//EN
CALSCALE:GREGORIAN
METHOD:PUBLISH
BEGIN:VEVENT
UID:69e8f068f3ff1
DTSTAMP:20260422T155936Z
DTSTART:20260725T120000Z
DTEND:20260725T170000Z
LOCATION:Riverside East Queen Elizabeth Olympic Park\,  5 Thornton Street\,  London\,  E20 2AD
SUMMARY:Reggae & Soca Family Fest
DESCRIPTION:The Ultimate Caribbean Family Day! Reggae &amp; Soca Family Fes
 t – The Ultimate Caribbean Family Day! Get ready for an unforgettable day
  packed with Caribbean vibes\,  delicious food\,  and fun for the whole fam
 ily at the Reggae &amp; Soca Family Fest! Experience the true spirit of th
 e Caribbean as the air[..]\nhttps://socanews.com/events/reggae-soca-family-
 fest/
URL:https://socanews.com/events/reggae-soca-family-fest/
END:VEVENT
END:VCALENDAR