
BEGIN:VCALENDAR
VERSION:2.0
PRODID:-//eventon.com NONSGML v1.0//EN
CALSCALE:GREGORIAN
METHOD:PUBLISH
BEGIN:VEVENT
UID:69e8f2797c0c4
DTSTAMP:20260422T160825Z
DTSTART:20260503T210000Z
DTEND:20260504T030000Z
LOCATION:Trapeze Bar 89 Great Eastern Street\,  London\,  EC2 3HX\,  United Kingdom
SUMMARY:Rep Ya Flag
DESCRIPTION:Join us for REP YOUR FLAG the Biggest Carnival-themed experienc
 e in the UK Bringing All Cultures Together Join us for Rep Your Flag for th
 e Biggest Carnival-themed experience in the UK. Expect a total celebration 
 of music\,  entertainment and culture. Expect to hear the REAL Afrobeats/Ba
 shment/Soca from across the decades[..]\nhttps://socanews.com/events/rep-ya
 -flag-3/
URL:https://socanews.com/events/rep-ya-flag-3/
END:VEVENT
END:VCALENDAR