
BEGIN:VCALENDAR
VERSION:2.0
PRODID:-//eventon.com NONSGML v1.0//EN
CALSCALE:GREGORIAN
METHOD:PUBLISH
BEGIN:VEVENT
UID:69e8f2b1eb36e
DTSTAMP:20260422T160921Z
DTSTART:20260503T140000Z
DTEND:20260503T200000Z
LOCATION:Island Vibez Kitchen Gerry Raffles Square\,  Stratford\,  London\,  E15 1BN
SUMMARY:Soca Vs Reggea
DESCRIPTION:We have added a donation option to our events bookings\,  this 
 will enable us to keep these event free at the door and continue bringing y
 ou amazing entertainment. All Soca Events are subject to change without not
 ice\,  however we will always aim to have some form of free entertainment. 
 In-house[..]\nhttps://socanews.com/events/soca-vs-reggea/
URL:https://socanews.com/events/soca-vs-reggea/
END:VEVENT
END:VCALENDAR