
BEGIN:VCALENDAR
VERSION:2.0
PRODID:-//eventon.com NONSGML v1.0//EN
CALSCALE:GREGORIAN
METHOD:PUBLISH
BEGIN:VEVENT
UID:69e8f23fd8719
DTSTAMP:20260422T160727Z
DTSTART:20260530T140000Z
DTEND:20260530T200000Z
LOCATION:High Street Bedford\,  MK40 1RZ
SUMMARY:Summer Warm Up - Soca & Afrobeats Brunch
DESCRIPTION:Get ready to vibe with the hottest Soca and Afrobeats tunes
  while enjoying a chill\,  in-person brunch experience! It&#8217;s all abou
 t good music\,  great food\,  and awesome people coming together to celebra
 te the best of both worlds. Come hungry\,  come ready to dance\,  and let&#
 8217;s make some unforgettable memories!\nhttps://socanews.com/events/summe
 r-warm-up-soca-and-afrobeats-brunch/
URL:https://socanews.com/events/summer-warm-up-soca-and-afrobeats-brunch/
END:VEVENT
END:VCALENDAR