
BEGIN:VCALENDAR
VERSION:2.0
PRODID:-//eventon.com NONSGML v1.0//EN
CALSCALE:GREGORIAN
METHOD:PUBLISH
BEGIN:VEVENT
UID:69e8f2b2027f4
DTSTAMP:20260422T160922Z
DTSTART:20260829T210000Z
DTEND:20260830T030000Z
LOCATION:DUO Clapham 15-16 Lendal Terrace\,  London\,  SW4 7UX
SUMMARY:Soca No Chaser X Fi Di Gyal Dem - Pre Carnival Party
DESCRIPTION:London… we’re bringing the energy straight from Amsterdam t
 o Notting Hill Carnival Weekend! Get ready for a night full of Non-stop So
 ca\,  Dancehall\,  Bashment and pure carnival vibes as two heavy-hitting b
 rands link up for one unforgettable experience.\nhttps://socanews.com/event
 s/soca-no-chaser-x-fi-di-gyal-dem-pre-carnival-party/
URL:https://socanews.com/events/soca-no-chaser-x-fi-di-gyal-dem-pre-carnival-party/
END:VEVENT
END:VCALENDAR