
BEGIN:VCALENDAR
VERSION:2.0
PRODID:-//eventon.com NONSGML v1.0//EN
CALSCALE:GREGORIAN
METHOD:PUBLISH
BEGIN:VEVENT
UID:69e8efb669a49
DTSTAMP:20260422T155638Z
DTSTART:20260503T140000Z
DTEND:20260503T200000Z
LOCATION:64 Cowley Road Oxford\,  OX4 1JB
SUMMARY:Soca Sunday
DESCRIPTION:Join us for Soca Sunday at Spiced Roots in Oxford. A monthly Ca
 ribbean day party featuring Soca DJs\,  doubles\,  rum cocktails and vibran
 t isla. Looking for something different to do on a Sunday in Oxford? Join u
 s at Spiced Roots for Soca Sunday\,  our monthly Caribbean day party bringi
 ng together[..]\nhttps://socanews.com/events/soca-sunday/
URL:https://socanews.com/events/soca-sunday/
END:VEVENT
END:VCALENDAR