
BEGIN:VCALENDAR
VERSION:2.0
PRODID:-//eventon.com NONSGML v1.0//EN
CALSCALE:GREGORIAN
METHOD:PUBLISH
BEGIN:VEVENT
UID:69e8f30005f95
DTSTAMP:20260422T161040Z
DTSTART:20260620T110000Z
DTEND:20260620T150000Z
LOCATION:21 Parkfield Street London\,  N1 0PS
SUMMARY: Soca Brunch with Triniboi Joocie & Jah Herbert
DESCRIPTION:Get ready for the ultimate Soca brunch party\,  bringing pure v
 ibes to Stratford! Join us for a high-energy\,  Soca-infused brunch! Expect
  an electrifying atmosphere with infectious riddims\,  mouth-watering brunc
 h dishes\,  rum punch on deck\,  and non-stop partying. Trinbagoian-born\, 
  UK-based singer/songwriter\,  Triniboi Joocie\,  has been successfully car
 rying the flag for Soca[..]\nhttps://socanews.com/events/soca-brunch-with-t
 riniboi-joocie-jah-herbert/
URL:https://socanews.com/events/soca-brunch-with-triniboi-joocie-jah-herbert/
END:VEVENT
END:VCALENDAR