
BEGIN:VCALENDAR
VERSION:2.0
PRODID:-//eventon.com NONSGML v1.0//EN
CALSCALE:GREGORIAN
METHOD:PUBLISH
BEGIN:VEVENT
UID:69e8f2eb5d17c
DTSTAMP:20260422T161019Z
DTSTART:20260425T180000Z
DTEND:20260425T225900Z
LOCATION:Walthamstow London\,  E17
SUMMARY:Soca Games Night
DESCRIPTION:Sip\,  Play\,  and Party at Soca Games Night! Get ready for a n
 ight of fun at our first official Soca Games Night! Bring your own bottle a
 nd join us for an evening filled with music\,  exciting games\,  and great 
 company. Whether you&#8217;re here for the soca vibes\,  the competitive sp
 irit\, [..]\nhttps://socanews.com/events/soca-games-night/
URL:https://socanews.com/events/soca-games-night/
END:VEVENT
END:VCALENDAR