
BEGIN:VCALENDAR
VERSION:2.0
PRODID:-//eventon.com NONSGML v1.0//EN
CALSCALE:GREGORIAN
METHOD:PUBLISH
BEGIN:VEVENT
UID:69e90b3c1597d
DTSTAMP:20260422T175404Z
DTSTART:20260425T210000Z
DTEND:20260426T030000Z
LOCATION:The Lighthouse Bar and Club 62 Rivington Street\,  London\,  EC2A 3AY
SUMMARY:Soca Carnival
DESCRIPTION:\nhttps://socanews.com/events/soca-carnival/
URL:https://socanews.com/events/soca-carnival/
END:VEVENT
END:VCALENDAR