
BEGIN:VCALENDAR
VERSION:2.0
PRODID:-//eventon.com NONSGML v1.0//EN
CALSCALE:GREGORIAN
METHOD:PUBLISH
BEGIN:VEVENT
UID:69e909336b75a
DTSTAMP:20260422T174523Z
DTSTART:20260502T110000Z
DTEND:20260502T153000Z
LOCATION:Westminster Millennium Pier Victoria Embankment\,  SW1A 2JH
SUMMARY:Just Vibezin On The Thames - Spring Time Boat Party
DESCRIPTION:The yearly Spring Time tradition is back! Join the Just Vibez c
 rew for Just Vibezingon the THAMES! SOCA Dancehall Afrobeats Reggae and mor
 e! Link up your crew and crew and crew and come thru!- come celebrate a bir
 thday or something special or simply celebrate being alive with your friend
 s and[..]\nhttps://socanews.com/events/just-vibezin-on-the-thames-spring-ti
 me-boat-party/
URL:https://socanews.com/events/just-vibezin-on-the-thames-spring-time-boat-party/
END:VEVENT
END:VCALENDAR